BEGIN:VCALENDAR
VERSION:2.0
PRODID:-//Native Village of Eklutna - ECPv6.15.11//NONSGML v1.0//EN
CALSCALE:GREGORIAN
METHOD:PUBLISH
X-ORIGINAL-URL:https://eklutna-nsn.gov
X-WR-CALDESC:Events for Native Village of Eklutna
REFRESH-INTERVAL;VALUE=DURATION:PT1H
X-Robots-Tag:noindex
X-PUBLISHED-TTL:PT1H
BEGIN:VTIMEZONE
TZID:America/Anchorage
BEGIN:DAYLIGHT
TZOFFSETFROM:-0900
TZOFFSETTO:-0800
TZNAME:AKDT
DTSTART:20200308T110000
END:DAYLIGHT
BEGIN:STANDARD
TZOFFSETFROM:-0800
TZOFFSETTO:-0900
TZNAME:AKST
DTSTART:20201101T100000
END:STANDARD
BEGIN:DAYLIGHT
TZOFFSETFROM:-0900
TZOFFSETTO:-0800
TZNAME:AKDT
DTSTART:20210314T110000
END:DAYLIGHT
BEGIN:STANDARD
TZOFFSETFROM:-0800
TZOFFSETTO:-0900
TZNAME:AKST
DTSTART:20211107T100000
END:STANDARD
BEGIN:DAYLIGHT
TZOFFSETFROM:-0900
TZOFFSETTO:-0800
TZNAME:AKDT
DTSTART:20220313T110000
END:DAYLIGHT
BEGIN:STANDARD
TZOFFSETFROM:-0800
TZOFFSETTO:-0900
TZNAME:AKST
DTSTART:20221106T100000
END:STANDARD
END:VTIMEZONE
BEGIN:VEVENT
DTSTART;TZID=America/Anchorage:20210802T080000
DTEND;TZID=America/Anchorage:20210806T170000
DTSTAMP:20260422T185136
CREATED:20210629T001159Z
LAST-MODIFIED:20210629T002152Z
UID:2152-1627891200-1628269200@eklutna-nsn.gov
SUMMARY:NVE Natural Resource Culture Camp
DESCRIPTION:more information to follow
URL:https://eklutna-nsn.gov/event/nve-natural-resource-culture-camp/
LOCATION:AK
ORGANIZER;CN="NVE":MAILTO:nve@eklutna.org
END:VEVENT
BEGIN:VEVENT
DTSTART;TZID=America/Anchorage:20210804T120000
DTEND;TZID=America/Anchorage:20210804T160000
DTSTAMP:20260422T185136
CREATED:20210707T205709Z
LAST-MODIFIED:20210707T205709Z
UID:2174-1628078400-1628092800@eklutna-nsn.gov
SUMMARY:Quarterly Council Meeting - Day 1
DESCRIPTION:The meeting will be held via Zoom and is free to attend. If you would like to request the login information for the meeting please email your name\, email\, and phone number to nve@eklutna.org or  if you prefer\, you can text the request to 907-688-1801 with the information.
URL:https://eklutna-nsn.gov/event/quarterly-council-meeting-day-1/
LOCATION:Zoom
ORGANIZER;CN="NVE":MAILTO:nve@eklutna.org
END:VEVENT
END:VCALENDAR