BEGIN:VCALENDAR
VERSION:2.0
PRODID:-//Native Village of Eklutna - ECPv6.15.11//NONSGML v1.0//EN
CALSCALE:GREGORIAN
METHOD:PUBLISH
X-WR-CALNAME:Native Village of Eklutna
X-ORIGINAL-URL:https://eklutna-nsn.gov
X-WR-CALDESC:Events for Native Village of Eklutna
REFRESH-INTERVAL;VALUE=DURATION:PT1H
X-Robots-Tag:noindex
X-PUBLISHED-TTL:PT1H
BEGIN:VTIMEZONE
TZID:America/Anchorage
BEGIN:DAYLIGHT
TZOFFSETFROM:-0900
TZOFFSETTO:-0800
TZNAME:AKDT
DTSTART:20210314T110000
END:DAYLIGHT
BEGIN:STANDARD
TZOFFSETFROM:-0800
TZOFFSETTO:-0900
TZNAME:AKST
DTSTART:20211107T100000
END:STANDARD
BEGIN:DAYLIGHT
TZOFFSETFROM:-0900
TZOFFSETTO:-0800
TZNAME:AKDT
DTSTART:20220313T110000
END:DAYLIGHT
BEGIN:STANDARD
TZOFFSETFROM:-0800
TZOFFSETTO:-0900
TZNAME:AKST
DTSTART:20221106T100000
END:STANDARD
BEGIN:DAYLIGHT
TZOFFSETFROM:-0900
TZOFFSETTO:-0800
TZNAME:AKDT
DTSTART:20230312T110000
END:DAYLIGHT
BEGIN:STANDARD
TZOFFSETFROM:-0800
TZOFFSETTO:-0900
TZNAME:AKST
DTSTART:20231105T100000
END:STANDARD
END:VTIMEZONE
BEGIN:VEVENT
DTSTART;TZID=America/Anchorage:20220212T120000
DTEND;TZID=America/Anchorage:20220212T150000
DTSTAMP:20260422T092420
CREATED:20220105T010941Z
LAST-MODIFIED:20220105T010941Z
UID:2444-1644667200-1644678000@eklutna-nsn.gov
SUMMARY:FY22 1st Quarter Council Meeting (day 2)
DESCRIPTION:The FY22 1st Quarter Council Meeting will be held via Zoom on 2/11 at 1pm. If you would like to attend the meeting\, please email nve@eklunta.org for the link.
URL:https://eklutna-nsn.gov/event/fy22-1st-quarter-council-meeting-day-2/
LOCATION:AK
END:VEVENT
END:VCALENDAR