BEGIN:VCALENDAR
VERSION:2.0
PRODID:-//Native Village of Eklutna - ECPv6.15.11//NONSGML v1.0//EN
CALSCALE:GREGORIAN
METHOD:PUBLISH
X-WR-CALNAME:Native Village of Eklutna
X-ORIGINAL-URL:https://eklutna-nsn.gov
X-WR-CALDESC:Events for Native Village of Eklutna
REFRESH-INTERVAL;VALUE=DURATION:PT1H
X-Robots-Tag:noindex
X-PUBLISHED-TTL:PT1H
BEGIN:VTIMEZONE
TZID:America/Anchorage
BEGIN:DAYLIGHT
TZOFFSETFROM:-0900
TZOFFSETTO:-0800
TZNAME:AKDT
DTSTART:20210314T110000
END:DAYLIGHT
BEGIN:STANDARD
TZOFFSETFROM:-0800
TZOFFSETTO:-0900
TZNAME:AKST
DTSTART:20211107T100000
END:STANDARD
BEGIN:DAYLIGHT
TZOFFSETFROM:-0900
TZOFFSETTO:-0800
TZNAME:AKDT
DTSTART:20220313T110000
END:DAYLIGHT
BEGIN:STANDARD
TZOFFSETFROM:-0800
TZOFFSETTO:-0900
TZNAME:AKST
DTSTART:20221106T100000
END:STANDARD
BEGIN:DAYLIGHT
TZOFFSETFROM:-0900
TZOFFSETTO:-0800
TZNAME:AKDT
DTSTART:20230312T110000
END:DAYLIGHT
BEGIN:STANDARD
TZOFFSETFROM:-0800
TZOFFSETTO:-0900
TZNAME:AKST
DTSTART:20231105T100000
END:STANDARD
END:VTIMEZONE
BEGIN:VEVENT
DTSTART;TZID=America/Anchorage:20221220T130000
DTEND;TZID=America/Anchorage:20221220T160000
DTSTAMP:20260421T172926
CREATED:20220929T210618Z
LAST-MODIFIED:20220929T210618Z
UID:2868-1671541200-1671552000@eklutna-nsn.gov
SUMMARY:Food Bank
DESCRIPTION:The Food bank is being rescheduled to December 20th this week due to the Christmas Holiday. For any questions or to put in a food box order\, please call 907-688-6020. \n 
URL:https://eklutna-nsn.gov/event/food-bank-2/
LOCATION:NVE
END:VEVENT
END:VCALENDAR