BEGIN:VCALENDAR
VERSION:2.0
PRODID:-//Native Village of Eklutna - ECPv6.15.11//NONSGML v1.0//EN
CALSCALE:GREGORIAN
METHOD:PUBLISH
X-WR-CALNAME:Native Village of Eklutna
X-ORIGINAL-URL:https://eklutna-nsn.gov
X-WR-CALDESC:Events for Native Village of Eklutna
REFRESH-INTERVAL;VALUE=DURATION:PT1H
X-Robots-Tag:noindex
X-PUBLISHED-TTL:PT1H
BEGIN:VTIMEZONE
TZID:America/Anchorage
BEGIN:DAYLIGHT
TZOFFSETFROM:-0900
TZOFFSETTO:-0800
TZNAME:AKDT
DTSTART:20220313T110000
END:DAYLIGHT
BEGIN:STANDARD
TZOFFSETFROM:-0800
TZOFFSETTO:-0900
TZNAME:AKST
DTSTART:20221106T100000
END:STANDARD
BEGIN:DAYLIGHT
TZOFFSETFROM:-0900
TZOFFSETTO:-0800
TZNAME:AKDT
DTSTART:20230312T110000
END:DAYLIGHT
BEGIN:STANDARD
TZOFFSETFROM:-0800
TZOFFSETTO:-0900
TZNAME:AKST
DTSTART:20231105T100000
END:STANDARD
BEGIN:DAYLIGHT
TZOFFSETFROM:-0900
TZOFFSETTO:-0800
TZNAME:AKDT
DTSTART:20240310T110000
END:DAYLIGHT
BEGIN:STANDARD
TZOFFSETFROM:-0800
TZOFFSETTO:-0900
TZNAME:AKST
DTSTART:20241103T100000
END:STANDARD
END:VTIMEZONE
BEGIN:VEVENT
DTSTART;TZID=America/Anchorage:20231201T130000
DTEND;TZID=America/Anchorage:20231201T160000
DTSTAMP:20260421T013916
CREATED:20231120T194953Z
LAST-MODIFIED:20231120T194953Z
UID:3134-1701435600-1701446400@eklutna-nsn.gov
SUMMARY:Southcentral Foundation Valley Native Primary Care Center Christmas Tea
DESCRIPTION:
URL:https://eklutna-nsn.gov/event/southcentral-foundation-valley-native-primary-care-center-christmas-tea/
LOCATION:1001 S. Knik Goose Bay Road\, Wasilla\, Alaska\, 1001 S Knik Goose Bay Road\, Wasilla\, Alaska
ORGANIZER;CN="SCF Eklutna Clinic":MAILTO:cbrophil@eklutna.org
END:VEVENT
END:VCALENDAR