BEGIN:VCALENDAR
VERSION:2.0
PRODID:-//Native Village of Eklutna - ECPv6.15.11//NONSGML v1.0//EN
CALSCALE:GREGORIAN
METHOD:PUBLISH
X-ORIGINAL-URL:https://eklutna-nsn.gov
X-WR-CALDESC:Events for Native Village of Eklutna
REFRESH-INTERVAL;VALUE=DURATION:PT1H
X-Robots-Tag:noindex
X-PUBLISHED-TTL:PT1H
BEGIN:VTIMEZONE
TZID:America/Anchorage
BEGIN:DAYLIGHT
TZOFFSETFROM:-0900
TZOFFSETTO:-0800
TZNAME:AKDT
DTSTART:20200308T110000
END:DAYLIGHT
BEGIN:STANDARD
TZOFFSETFROM:-0800
TZOFFSETTO:-0900
TZNAME:AKST
DTSTART:20201101T100000
END:STANDARD
BEGIN:DAYLIGHT
TZOFFSETFROM:-0900
TZOFFSETTO:-0800
TZNAME:AKDT
DTSTART:20210314T110000
END:DAYLIGHT
BEGIN:STANDARD
TZOFFSETFROM:-0800
TZOFFSETTO:-0900
TZNAME:AKST
DTSTART:20211107T100000
END:STANDARD
BEGIN:DAYLIGHT
TZOFFSETFROM:-0900
TZOFFSETTO:-0800
TZNAME:AKDT
DTSTART:20220313T110000
END:DAYLIGHT
BEGIN:STANDARD
TZOFFSETFROM:-0800
TZOFFSETTO:-0900
TZNAME:AKST
DTSTART:20221106T100000
END:STANDARD
END:VTIMEZONE
BEGIN:VEVENT
DTSTART;TZID=America/Anchorage:20211112T130000
DTEND;TZID=America/Anchorage:20211112T170000
DTSTAMP:20260422T121053
CREATED:20211025T224243Z
LAST-MODIFIED:20211025T225321Z
UID:2381-1636722000-1636736400@eklutna-nsn.gov
SUMMARY:NVE Council Q4 meeting - day 1
DESCRIPTION:The meeting will be held via Zoom and is free to attend. If you would like to request the login information for the meeting please email your name\, email\, and phone number to nve@eklutna.org or  if you prefer\, you can text the request to 907-688-1801 with the information.
URL:https://eklutna-nsn.gov/event/nve-council-q4-meeting/
LOCATION:AK
END:VEVENT
BEGIN:VEVENT
DTSTART;TZID=America/Anchorage:20211113T120000
DTEND;TZID=America/Anchorage:20211113T150000
DTSTAMP:20260422T121053
CREATED:20211025T225608Z
LAST-MODIFIED:20211025T225608Z
UID:2385-1636804800-1636815600@eklutna-nsn.gov
SUMMARY:NVE Quarterly Meeting Day 2 - Q4
DESCRIPTION:The meeting will be held via Zoom and is free to attend. If you would like to request the login information for the meeting please email your name\, email\, and phone number to nve@eklutna.org or  if you prefer\, you can text the request to 907-688-1801 with the information.
URL:https://eklutna-nsn.gov/event/nve-quarterly-meeting-day-2-q4/
LOCATION:AK
END:VEVENT
BEGIN:VEVENT
DTSTART;TZID=America/Anchorage:20211116T110000
DTEND;TZID=America/Anchorage:20211116T160000
DTSTAMP:20260422T121053
CREATED:20210812T215057Z
LAST-MODIFIED:20210812T215057Z
UID:2208-1637060400-1637078400@eklutna-nsn.gov
SUMMARY:Turkey Basket Distribution
DESCRIPTION:Turkey Baskets will be distributed to the NVE Community November 16th through November 19th\, 11:00am – 4:00pm. Baskets will be available at the NVE Food Bank Building.
URL:https://eklutna-nsn.gov/event/turkey-basket-distribution/
LOCATION:AK
END:VEVENT
BEGIN:VEVENT
DTSTART;VALUE=DATE:20211125
DTEND;VALUE=DATE:20211126
DTSTAMP:20260422T121053
CREATED:20210812T215855Z
LAST-MODIFIED:20210812T215855Z
UID:2219-1637798400-1637884799@eklutna-nsn.gov
SUMMARY:NVE OFFICES CLOSED
DESCRIPTION:
URL:https://eklutna-nsn.gov/event/nve-offices-closed-2/
LOCATION:AK
END:VEVENT
BEGIN:VEVENT
DTSTART;TZID=America/Anchorage:20211126T080000
DTEND;TZID=America/Anchorage:20211126T170000
DTSTAMP:20260422T121053
CREATED:20211018T181306Z
LAST-MODIFIED:20211018T181442Z
UID:2269-1637913600-1637946000@eklutna-nsn.gov
SUMMARY:NVE Office Closed
DESCRIPTION:NVE Offices closed in observance of the Thanksgiving Holiday.
URL:https://eklutna-nsn.gov/event/nve-office-closed-2/
LOCATION:AK
END:VEVENT
END:VCALENDAR