BEGIN:VCALENDAR
VERSION:2.0
PRODID:-//Native Village of Eklutna - ECPv6.15.11//NONSGML v1.0//EN
CALSCALE:GREGORIAN
METHOD:PUBLISH
X-WR-CALNAME:Native Village of Eklutna
X-ORIGINAL-URL:https://eklutna-nsn.gov
X-WR-CALDESC:Events for Native Village of Eklutna
REFRESH-INTERVAL;VALUE=DURATION:PT1H
X-Robots-Tag:noindex
X-PUBLISHED-TTL:PT1H
BEGIN:VTIMEZONE
TZID:America/Anchorage
BEGIN:DAYLIGHT
TZOFFSETFROM:-0900
TZOFFSETTO:-0800
TZNAME:AKDT
DTSTART:20200308T110000
END:DAYLIGHT
BEGIN:STANDARD
TZOFFSETFROM:-0800
TZOFFSETTO:-0900
TZNAME:AKST
DTSTART:20201101T100000
END:STANDARD
BEGIN:DAYLIGHT
TZOFFSETFROM:-0900
TZOFFSETTO:-0800
TZNAME:AKDT
DTSTART:20210314T110000
END:DAYLIGHT
BEGIN:STANDARD
TZOFFSETFROM:-0800
TZOFFSETTO:-0900
TZNAME:AKST
DTSTART:20211107T100000
END:STANDARD
BEGIN:DAYLIGHT
TZOFFSETFROM:-0900
TZOFFSETTO:-0800
TZNAME:AKDT
DTSTART:20220313T110000
END:DAYLIGHT
BEGIN:STANDARD
TZOFFSETFROM:-0800
TZOFFSETTO:-0900
TZNAME:AKST
DTSTART:20221106T100000
END:STANDARD
END:VTIMEZONE
BEGIN:VEVENT
DTSTART;TZID=America/Anchorage:20211211T120000
DTEND;TZID=America/Anchorage:20211211T150000
DTSTAMP:20260422T103955
CREATED:20210812T215517Z
LAST-MODIFIED:20210812T215517Z
UID:2213-1639224000-1639234800@eklutna-nsn.gov
SUMMARY:((Tentative)) Tribal Membership Christmas Potluck
DESCRIPTION:COVID PENDING EVENT\nThe Tribal Membership Christmas Potluck luncheon will be held on Saturday December 11th at Our Redeemer Lutheran Church in Chugiak\, AK from 12:00 to 3:00 PM.  We are asking members who can to bring a dish to share.
URL:https://eklutna-nsn.gov/event/tentative-tribal-membership-christmas-potluck/
LOCATION:AK
END:VEVENT
BEGIN:VEVENT
DTSTART;TZID=America/Anchorage:20211221T130000
DTEND;TZID=America/Anchorage:20211221T160000
DTSTAMP:20260422T103955
CREATED:20210514T235006Z
LAST-MODIFIED:20211208T193109Z
UID:2070-1640091600-1640102400@eklutna-nsn.gov
SUMMARY:Food Bank
DESCRIPTION:Food Bank\nCHANGE IN DATE DUE TO HOLIDAY\nWhere: NVE Food Bank Building \nCall 688-6020 to reserve a box. Boxes are available for contactless pickup.
URL:https://eklutna-nsn.gov/event/food-bank-2021-12-22/
LOCATION:AK
END:VEVENT
BEGIN:VEVENT
DTSTART;TZID=America/Anchorage:20211221T130000
DTEND;TZID=America/Anchorage:20211221T160000
DTSTAMP:20260422T103955
CREATED:20210514T235006Z
LAST-MODIFIED:20211208T192759Z
UID:2324-1640091600-1640102400@eklutna-nsn.gov
SUMMARY:Food Bank
DESCRIPTION:Food Bank\nCHANGE IN DATE DUE TO HOLIDAY! \nWhere: NVE Food Bank Building \nCall 688-6020 to reserve a box. Boxes are available for contactless pickup.
URL:https://eklutna-nsn.gov/event/food-bank-2022-12-21/
LOCATION:AK
END:VEVENT
BEGIN:VEVENT
DTSTART;TZID=America/Anchorage:20211223T130000
DTEND;TZID=America/Anchorage:20211223T170000
DTSTAMP:20260422T103955
CREATED:20211018T180634Z
LAST-MODIFIED:20211018T181642Z
UID:2267-1640264400-1640278800@eklutna-nsn.gov
SUMMARY:NVE Offices Close @1pm
DESCRIPTION:In observance of the Christmas Holiday\, NVE offices close at 1 pm.
URL:https://eklutna-nsn.gov/event/nve-offices-close-1pm/
LOCATION:AK
END:VEVENT
BEGIN:VEVENT
DTSTART;VALUE=DATE:20211224
DTEND;VALUE=DATE:20211225
DTSTAMP:20260422T103955
CREATED:20210812T215951Z
LAST-MODIFIED:20210812T215951Z
UID:2221-1640304000-1640390399@eklutna-nsn.gov
SUMMARY:NVE OFFICES CLOSED
DESCRIPTION:
URL:https://eklutna-nsn.gov/event/nve-offices-closed-3/
LOCATION:AK
END:VEVENT
BEGIN:VEVENT
DTSTART;TZID=America/Anchorage:20211225T080000
DTEND;TZID=America/Anchorage:20211225T170000
DTSTAMP:20260422T103955
CREATED:20211018T180302Z
LAST-MODIFIED:20211018T181853Z
UID:2264-1640419200-1640451600@eklutna-nsn.gov
SUMMARY:Christmas
DESCRIPTION:NVE Wishes everyone a Happy Holiday Season!
URL:https://eklutna-nsn.gov/event/christmas/
LOCATION:AK
END:VEVENT
END:VCALENDAR