BEGIN:VCALENDAR
VERSION:2.0
PRODID:-//Native Village of Eklutna - ECPv6.15.11//NONSGML v1.0//EN
CALSCALE:GREGORIAN
METHOD:PUBLISH
X-WR-CALNAME:Native Village of Eklutna
X-ORIGINAL-URL:https://eklutna-nsn.gov
X-WR-CALDESC:Events for Native Village of Eklutna
REFRESH-INTERVAL;VALUE=DURATION:PT1H
X-Robots-Tag:noindex
X-PUBLISHED-TTL:PT1H
BEGIN:VTIMEZONE
TZID:America/Anchorage
BEGIN:DAYLIGHT
TZOFFSETFROM:-0900
TZOFFSETTO:-0800
TZNAME:AKDT
DTSTART:20210314T110000
END:DAYLIGHT
BEGIN:STANDARD
TZOFFSETFROM:-0800
TZOFFSETTO:-0900
TZNAME:AKST
DTSTART:20211107T100000
END:STANDARD
BEGIN:DAYLIGHT
TZOFFSETFROM:-0900
TZOFFSETTO:-0800
TZNAME:AKDT
DTSTART:20220313T110000
END:DAYLIGHT
BEGIN:STANDARD
TZOFFSETFROM:-0800
TZOFFSETTO:-0900
TZNAME:AKST
DTSTART:20221106T100000
END:STANDARD
BEGIN:DAYLIGHT
TZOFFSETFROM:-0900
TZOFFSETTO:-0800
TZNAME:AKDT
DTSTART:20230312T110000
END:DAYLIGHT
BEGIN:STANDARD
TZOFFSETFROM:-0800
TZOFFSETTO:-0900
TZNAME:AKST
DTSTART:20231105T100000
END:STANDARD
END:VTIMEZONE
BEGIN:VEVENT
DTSTART;TZID=America/Anchorage:20220507T100000
DTEND;TZID=America/Anchorage:20220507T150000
DTSTAMP:20260422T030243
CREATED:20220407T211700Z
LAST-MODIFIED:20220407T211700Z
UID:2602-1651917600-1651935600@eklutna-nsn.gov
SUMMARY:NVE Spring Picnic
DESCRIPTION:NVE Community Spring Picnic flyer \n 
URL:https://eklutna-nsn.gov/event/nve-spring-picnic/
LOCATION:AK
END:VEVENT
BEGIN:VEVENT
DTSTART;TZID=America/Anchorage:20220513T130000
DTEND;TZID=America/Anchorage:20220513T170000
DTSTAMP:20260422T030243
CREATED:20220421T182705Z
LAST-MODIFIED:20220421T182705Z
UID:2649-1652446800-1652461200@eklutna-nsn.gov
SUMMARY:FY 22 Quarter 2 Council Meeting Day 1
DESCRIPTION:The FY22 2nd Quarter Council Meeting will be held via Zoom on 5/13 at 1pm. If you would like to attend the meeting\, please email nve@eklunta.org for the link.
URL:https://eklutna-nsn.gov/event/fy-22-quarter-2-council-meeting-day-1/
LOCATION:Zoom
ORGANIZER;CN="NVE":MAILTO:nve@eklutna.org
END:VEVENT
BEGIN:VEVENT
DTSTART;TZID=America/Anchorage:20220514T120000
DTEND;TZID=America/Anchorage:20220514T160000
DTSTAMP:20260422T030243
CREATED:20220421T183026Z
LAST-MODIFIED:20220421T183026Z
UID:2651-1652529600-1652544000@eklutna-nsn.gov
SUMMARY:FY22 Quarter 2 Council Meeting - Day 2
DESCRIPTION:The FY22 2nd Quarter Council Meeting will be held via Zoom on 5/14 at noon. If you would like to attend the meeting\, please email nve@eklunta.org for the link.
URL:https://eklutna-nsn.gov/event/fy22-quarter-2-council-meeting-day-2/
LOCATION:Zoom
ORGANIZER;CN="NVE":MAILTO:nve@eklutna.org
END:VEVENT
BEGIN:VEVENT
DTSTART;TZID=America/Anchorage:20220525T080000
DTEND;TZID=America/Anchorage:20220525T170000
DTSTAMP:20260422T030243
CREATED:20220520T210739Z
LAST-MODIFIED:20220520T210850Z
UID:2663-1653465600-1653498000@eklutna-nsn.gov
SUMMARY:SCF Dental
DESCRIPTION:
URL:https://eklutna-nsn.gov/event/scf-dental/
LOCATION:Eklutna Clinic\, 26341 EKLUTNA VILLAGE RD\, CHUGIAK\, AK\, 99567\, United States
END:VEVENT
END:VCALENDAR