BEGIN:VCALENDAR
VERSION:2.0
PRODID:-//Native Village of Eklutna - ECPv6.15.11//NONSGML v1.0//EN
CALSCALE:GREGORIAN
METHOD:PUBLISH
X-WR-CALNAME:Native Village of Eklutna
X-ORIGINAL-URL:https://eklutna-nsn.gov
X-WR-CALDESC:Events for Native Village of Eklutna
REFRESH-INTERVAL;VALUE=DURATION:PT1H
X-Robots-Tag:noindex
X-PUBLISHED-TTL:PT1H
BEGIN:VTIMEZONE
TZID:America/Anchorage
BEGIN:DAYLIGHT
TZOFFSETFROM:-0900
TZOFFSETTO:-0800
TZNAME:AKDT
DTSTART:20210314T110000
END:DAYLIGHT
BEGIN:STANDARD
TZOFFSETFROM:-0800
TZOFFSETTO:-0900
TZNAME:AKST
DTSTART:20211107T100000
END:STANDARD
BEGIN:DAYLIGHT
TZOFFSETFROM:-0900
TZOFFSETTO:-0800
TZNAME:AKDT
DTSTART:20220313T110000
END:DAYLIGHT
BEGIN:STANDARD
TZOFFSETFROM:-0800
TZOFFSETTO:-0900
TZNAME:AKST
DTSTART:20221106T100000
END:STANDARD
BEGIN:DAYLIGHT
TZOFFSETFROM:-0900
TZOFFSETTO:-0800
TZNAME:AKDT
DTSTART:20230312T110000
END:DAYLIGHT
BEGIN:STANDARD
TZOFFSETFROM:-0800
TZOFFSETTO:-0900
TZNAME:AKST
DTSTART:20231105T100000
END:STANDARD
END:VTIMEZONE
BEGIN:VEVENT
DTSTART;TZID=America/Anchorage:20221108T080000
DTEND;TZID=America/Anchorage:20221108T170000
DTSTAMP:20260421T173040
CREATED:20220808T223424Z
LAST-MODIFIED:20220808T223424Z
UID:2840-1667894400-1667926800@eklutna-nsn.gov
SUMMARY:CITC Kuspuk Making Workshop - Youth Activity
DESCRIPTION:
URL:https://eklutna-nsn.gov/event/citc-kuspuk-making-workshop-youth-activity/
LOCATION:AK
ORGANIZER;CN="CITC":MAILTO:prevention@citci.org
END:VEVENT
BEGIN:VEVENT
DTSTART;VALUE=DATE:20221111
DTEND;VALUE=DATE:20221112
DTSTAMP:20260421T173040
CREATED:20221108T001016Z
LAST-MODIFIED:20221108T001016Z
UID:2893-1668124800-1668211199@eklutna-nsn.gov
SUMMARY:NVE Offices Closed
DESCRIPTION:
URL:https://eklutna-nsn.gov/event/nve-offices-closed-5/
LOCATION:AK
END:VEVENT
BEGIN:VEVENT
DTSTART;TZID=America/Anchorage:20221114T130000
DTEND;TZID=America/Anchorage:20221114T150000
DTSTAMP:20260421T173040
CREATED:20221108T001208Z
LAST-MODIFIED:20221108T001208Z
UID:2896-1668430800-1668438000@eklutna-nsn.gov
SUMMARY:Community Meeting with APD
DESCRIPTION:
URL:https://eklutna-nsn.gov/event/community-meeting-with-apd/
LOCATION:Eklutna Clinic\, 26341 EKLUTNA VILLAGE RD\, CHUGIAK\, AK\, 99567\, United States
ORGANIZER;CN="NVE":MAILTO:nve@eklutna.org
END:VEVENT
BEGIN:VEVENT
DTSTART;TZID=America/Anchorage:20221116T130000
DTEND;TZID=America/Anchorage:20221118T170000
DTSTAMP:20260421T173040
CREATED:20220628T003407Z
LAST-MODIFIED:20220628T003407Z
UID:2813-1668603600-1668790800@eklutna-nsn.gov
SUMMARY:Turkey Basket Distribution
DESCRIPTION:NVE Annual Turkey Basket Distribution for the Thanksgiving Holiday will be from 1 pm on 11/16 to 5pm 11/18. Please call the main office at 907-688-6020 for more information.
URL:https://eklutna-nsn.gov/event/turkey-basket-distribution-2/
LOCATION:NVE
END:VEVENT
BEGIN:VEVENT
DTSTART;VALUE=DATE:20221124
DTEND;VALUE=DATE:20221126
DTSTAMP:20260421T173040
CREATED:20220929T211646Z
LAST-MODIFIED:20220929T211646Z
UID:2873-1669248000-1669420799@eklutna-nsn.gov
SUMMARY:NVE Office Closed in observance of Thanksgiving
DESCRIPTION:NVE offices will be closed on Thursday November 24 and Friday November 25. They will reopen at 9:00 am on Monday November 28.
URL:https://eklutna-nsn.gov/event/nve-office-closed-in-observance-of-thanksgiving/
LOCATION:NVE
ORGANIZER;CN="NVE":MAILTO:nve@eklutna.org
END:VEVENT
END:VCALENDAR