BEGIN:VCALENDAR
VERSION:2.0
PRODID:-//Native Village of Eklutna - ECPv6.15.11//NONSGML v1.0//EN
CALSCALE:GREGORIAN
METHOD:PUBLISH
X-ORIGINAL-URL:https://eklutna-nsn.gov
X-WR-CALDESC:Events for Native Village of Eklutna
REFRESH-INTERVAL;VALUE=DURATION:PT1H
X-Robots-Tag:noindex
X-PUBLISHED-TTL:PT1H
BEGIN:VTIMEZONE
TZID:America/Anchorage
BEGIN:DAYLIGHT
TZOFFSETFROM:-0900
TZOFFSETTO:-0800
TZNAME:AKDT
DTSTART:20220313T110000
END:DAYLIGHT
BEGIN:STANDARD
TZOFFSETFROM:-0800
TZOFFSETTO:-0900
TZNAME:AKST
DTSTART:20221106T100000
END:STANDARD
BEGIN:DAYLIGHT
TZOFFSETFROM:-0900
TZOFFSETTO:-0800
TZNAME:AKDT
DTSTART:20230312T110000
END:DAYLIGHT
BEGIN:STANDARD
TZOFFSETFROM:-0800
TZOFFSETTO:-0900
TZNAME:AKST
DTSTART:20231105T100000
END:STANDARD
BEGIN:DAYLIGHT
TZOFFSETFROM:-0900
TZOFFSETTO:-0800
TZNAME:AKDT
DTSTART:20240310T110000
END:DAYLIGHT
BEGIN:STANDARD
TZOFFSETFROM:-0800
TZOFFSETTO:-0900
TZNAME:AKST
DTSTART:20241103T100000
END:STANDARD
END:VTIMEZONE
BEGIN:VEVENT
DTSTART;TZID=America/Anchorage:20230510T080000
DTEND;TZID=America/Anchorage:20230510T170000
DTSTAMP:20260421T084808
CREATED:20230412T192054Z
LAST-MODIFIED:20230412T192054Z
UID:3013-1683705600-1683738000@eklutna-nsn.gov
SUMMARY:Eklutna Clinic Dental
DESCRIPTION:
URL:https://eklutna-nsn.gov/event/eklutna-clinic-dental-3/
LOCATION:Eklutna Clinic\, 26341 EKLUTNA VILLAGE RD\, CHUGIAK\, AK\, 99567\, United States
ORGANIZER;CN="SCF Eklutna Clinic":MAILTO:cbrophil@eklutna.org
END:VEVENT
END:VCALENDAR