BEGIN:VCALENDAR
VERSION:2.0
PRODID:-//Native Village of Eklutna - ECPv6.15.11//NONSGML v1.0//EN
CALSCALE:GREGORIAN
METHOD:PUBLISH
X-WR-CALNAME:Native Village of Eklutna
X-ORIGINAL-URL:https://eklutna-nsn.gov
X-WR-CALDESC:Events for Native Village of Eklutna
REFRESH-INTERVAL;VALUE=DURATION:PT1H
X-Robots-Tag:noindex
X-PUBLISHED-TTL:PT1H
BEGIN:VTIMEZONE
TZID:America/Anchorage
BEGIN:DAYLIGHT
TZOFFSETFROM:-0900
TZOFFSETTO:-0800
TZNAME:AKDT
DTSTART:20220313T110000
END:DAYLIGHT
BEGIN:STANDARD
TZOFFSETFROM:-0800
TZOFFSETTO:-0900
TZNAME:AKST
DTSTART:20221106T100000
END:STANDARD
BEGIN:DAYLIGHT
TZOFFSETFROM:-0900
TZOFFSETTO:-0800
TZNAME:AKDT
DTSTART:20230312T110000
END:DAYLIGHT
BEGIN:STANDARD
TZOFFSETFROM:-0800
TZOFFSETTO:-0900
TZNAME:AKST
DTSTART:20231105T100000
END:STANDARD
BEGIN:DAYLIGHT
TZOFFSETFROM:-0900
TZOFFSETTO:-0800
TZNAME:AKDT
DTSTART:20240310T110000
END:DAYLIGHT
BEGIN:STANDARD
TZOFFSETFROM:-0800
TZOFFSETTO:-0900
TZNAME:AKST
DTSTART:20241103T100000
END:STANDARD
END:VTIMEZONE
BEGIN:VEVENT
DTSTART;TZID=America/Anchorage:20230708T110000
DTEND;TZID=America/Anchorage:20230708T150000
DTSTAMP:20260421T055314
CREATED:20230616T222010Z
LAST-MODIFIED:20230616T222010Z
UID:3071-1688814000-1688828400@eklutna-nsn.gov
SUMMARY:Annual Tribal Celebration and Health Fair
DESCRIPTION:
URL:https://eklutna-nsn.gov/event/annual-tribal-celebration-and-health-fair/
LOCATION:Palmer Fair Grounds
END:VEVENT
BEGIN:VEVENT
DTSTART;TZID=America/Anchorage:20230731T100000
DTEND;TZID=America/Anchorage:20230804T160000
DTSTAMP:20260421T055314
CREATED:20230227T230726Z
LAST-MODIFIED:20230227T230726Z
UID:2947-1690797600-1691164800@eklutna-nsn.gov
SUMMARY:NVE Culture Camp
DESCRIPTION:NVE Culture Camp
URL:https://eklutna-nsn.gov/event/nve-culture-camp/
LOCATION:NVE
END:VEVENT
END:VCALENDAR